BEGIN:VCALENDAR
VERSION:2.0
PRODID:-//Paula Obrien - UK Psychic Medium - ECPv6.15.20//NONSGML v1.0//EN
CALSCALE:GREGORIAN
METHOD:PUBLISH
X-ORIGINAL-URL:https://paulaobrien.net
X-WR-CALDESC:Events for Paula Obrien - UK Psychic Medium
REFRESH-INTERVAL;VALUE=DURATION:PT1H
X-Robots-Tag:noindex
X-PUBLISHED-TTL:PT1H
BEGIN:VTIMEZONE
TZID:Europe/London
BEGIN:DAYLIGHT
TZOFFSETFROM:+0000
TZOFFSETTO:+0100
TZNAME:BST
DTSTART:20220327T010000
END:DAYLIGHT
BEGIN:STANDARD
TZOFFSETFROM:+0100
TZOFFSETTO:+0000
TZNAME:GMT
DTSTART:20221030T010000
END:STANDARD
BEGIN:DAYLIGHT
TZOFFSETFROM:+0000
TZOFFSETTO:+0100
TZNAME:BST
DTSTART:20230326T010000
END:DAYLIGHT
BEGIN:STANDARD
TZOFFSETFROM:+0100
TZOFFSETTO:+0000
TZNAME:GMT
DTSTART:20231029T010000
END:STANDARD
BEGIN:DAYLIGHT
TZOFFSETFROM:+0000
TZOFFSETTO:+0100
TZNAME:BST
DTSTART:20240331T010000
END:DAYLIGHT
BEGIN:STANDARD
TZOFFSETFROM:+0100
TZOFFSETTO:+0000
TZNAME:GMT
DTSTART:20241027T010000
END:STANDARD
END:VTIMEZONE
BEGIN:VEVENT
DTSTART;TZID=Europe/London:20230626T193000
DTEND;TZID=Europe/London:20230626T213000
DTSTAMP:20260425T022451
CREATED:20220708T060254Z
LAST-MODIFIED:20230606T121406Z
UID:10000692-1687807800-1687815000@paulaobrien.net
SUMMARY:SOLD OUT!! Exeter 26th of June 2023
DESCRIPTION:Paula’s 10 Year Anniversary Tour 2023 \nExeter 26th of June 2023 \nThe Devon Hotel\, Exeter \n‍\nJoin Paula as we celebrate our 10th year of touring for what is going to be one of the most magical and emotional tours we have done. The past 10 years have brought so many beautiful\, emotional and heartfelt conversations with your loved ones I’m going into the next 10 years looking forward to doing a thousand times more! \nWhat the expect on the night – Come along and see Paula’s incredible communication with spirit\, one of a kind sense of humour and jaw dropping gift as she shares her journey and delivers stunningly accurate messages from your loved ones. While not everyone will get a reading messages from your loved ones may come through in what Paula refers to as a “piggy back message” \n\n6.30pm – Doors Open\n7.30-8.15pm – First Half\n8.15-8.45pm – Break\n8.45 – 9.30pm – Second Half\n9.30pm – VIP Experience\n‍\nOpen seating plan for all guests (VIP will be seated in the first few rows)\nSpecial Tickets – £12.50\nSpecial Tickets: These tickets are just standard tickets but to celebrate our 10 year anniversary tour we have released a limited amount of these tickets. (This was our original ticket price back in 2013)\nStandard Tickets – £25\nStandard Tickets : Paula will deliver as many messages as possible during the first and second half. Although attendance does not guarantee a direct message\, we hope you thoroughly enjoy the night as a whole.‍\nVIP Tickets – £35\nVIP Tickets :\n– Best seats in the house\, usually on the first 2/3 rows.\n– EXTRA 20 MINUTE VIP exclusive Q&A after the event.‍Little details:\nAttendance does not guarantee a reading during the event.\nTickets are non-refundable.\nMust be 16 years or older to attend.\nInfants are not permitted.\nTerms and Conditions apply\, please see the T’s & C’s page for details.Understanding that we are still in the aftermath of a Global Pandemic and taking into account that there may still be local lock downs or tightening of the Covid Restrictions\, please be advised that if an event must be rescheduled\, your ticket will automatically be re-booked to the new date. Refunds for any events will not be issued\, under any circumstances. 
URL:https://paulaobrien.net/event/exeter-26th-of-june-2023/
LOCATION:The Devon Hotel\, Exeter\, Old Matford Lane\, Exeter\, EX2 8XU\, United Kingdom
CATEGORIES:10 Year Anniversary Tour 2023,English Tour Dates,Live Events,Psychic Medium Tickets - Paula Obrien Psychic Medium UK
ATTACH;FMTTYPE=image/png:https://paulaobrien.net/wp-content/uploads/2022/06/2023-Standard-Tickets-1920-×-1080px.png
ORGANIZER;CN="Paula Obrien Ltd":MAILTO:support@paulaobrien.net
GEO:50.6906917;-3.5167621
X-APPLE-STRUCTURED-LOCATION;VALUE=URI;X-ADDRESS=The Devon Hotel Exeter Old Matford Lane Exeter EX2 8XU United Kingdom;X-APPLE-RADIUS=500;X-TITLE=Old Matford Lane:geo:-3.5167621,50.6906917
END:VEVENT
END:VCALENDAR