BEGIN:VCALENDAR
VERSION:2.0
PRODID:-//Paula Obrien - UK Psychic Medium - ECPv6.15.20//NONSGML v1.0//EN
CALSCALE:GREGORIAN
METHOD:PUBLISH
X-WR-CALNAME:Paula Obrien - UK Psychic Medium
X-ORIGINAL-URL:https://paulaobrien.net
X-WR-CALDESC:Events for Paula Obrien - UK Psychic Medium
REFRESH-INTERVAL;VALUE=DURATION:PT1H
X-Robots-Tag:noindex
X-PUBLISHED-TTL:PT1H
BEGIN:VTIMEZONE
TZID:Europe/London
BEGIN:DAYLIGHT
TZOFFSETFROM:+0000
TZOFFSETTO:+0100
TZNAME:BST
DTSTART:20230326T010000
END:DAYLIGHT
BEGIN:STANDARD
TZOFFSETFROM:+0100
TZOFFSETTO:+0000
TZNAME:GMT
DTSTART:20231029T010000
END:STANDARD
BEGIN:DAYLIGHT
TZOFFSETFROM:+0000
TZOFFSETTO:+0100
TZNAME:BST
DTSTART:20240331T010000
END:DAYLIGHT
BEGIN:STANDARD
TZOFFSETFROM:+0100
TZOFFSETTO:+0000
TZNAME:GMT
DTSTART:20241027T010000
END:STANDARD
BEGIN:DAYLIGHT
TZOFFSETFROM:+0000
TZOFFSETTO:+0100
TZNAME:BST
DTSTART:20250330T010000
END:DAYLIGHT
BEGIN:STANDARD
TZOFFSETFROM:+0100
TZOFFSETTO:+0000
TZNAME:GMT
DTSTART:20251026T010000
END:STANDARD
END:VTIMEZONE
BEGIN:VEVENT
DTSTART;TZID=Europe/London:20240924T193000
DTEND;TZID=Europe/London:20240924T213000
DTSTAMP:20260423T000032
CREATED:20240213T130604Z
LAST-MODIFIED:20240213T130604Z
UID:10000768-1727206200-1727213400@paulaobrien.net
SUMMARY:Dundee 24th of September 2024
DESCRIPTION:From Heaven With Love Tour 2024 \nDundee 24th of September 2024 \nThe Landmark Hotel\, Dundee \n  \nJoin Paula as we celebrate our 11th year of touring for what is going to be one of the most magical and emotional tours we have done. The past 10 years have brought so many beautiful\, emotional and heartfelt conversations with your loved ones I’m going into the next 10 years looking forward to doing a thousand times more! \nWhat the expect on the night – Come along and see Paula’s incredible communication with spirit\, one of a kind sense of humour and jaw dropping gift as she shares her journey and delivers stunningly accurate messages from your loved ones. While not everyone will get a reading messages from your loved ones may come through in what Paula refers to as a “piggy back message” \n\n6.30pm – Doors Open\n7.30-8.30pm – First Half\n8.30-8.50pm – Break\n8.50 – 9.30pm – Second Half\n‍\nOpen seating plan for all guests.Special Tickets – £15.00\nSpecial Tickets: These tickets are just standard tickets but to celebrate our 10 year anniversary tour we have released a limited amount of these tickets. (This was our original ticket price back in 2013)\nStandard Tickets – £25\nStandard Tickets : Paula will deliver as many messages as possible during the first and second half. Although attendance does not guarantee a direct message\, we hope you thoroughly enjoy the night as a whole.‍\n\nLittle details:\nAttendance does not guarantee a reading during the event.\nTickets are non-refundable.\nMust be 16 years or older to attend.\n\nInfants are not permitted.Terms and Conditions apply\, please see the T’s & C’s page for details.Understanding that we are still in the aftermath of a Global Pandemic and taking into account that there may still be local lock downs or tightening of the Covid Restrictions\, please be advised that if an event must be rescheduled\, your ticket will automatically be re-booked to the new date. Refunds for any events will not be issued\, under any circumstances. 
URL:https://paulaobrien.net/event/dundee-24th-of-september-2024/
LOCATION:The Landmark Hotel\, Dundee\, DD2 5JT\, United Kingdom
CATEGORIES:From Heaven with Love Tour,Live Events,Psychic Medium Tickets - Paula Obrien Psychic Medium UK,Scottish Tour Dates
ATTACH;FMTTYPE=image/png:https://paulaobrien.net/wp-content/uploads/2023/11/Fb-event-cover-part-2.png
ORGANIZER;CN="Paula Obrien Ltd":MAILTO:support@paulaobrien.net
GEO:56.4665818;-3.0644823
END:VEVENT
BEGIN:VEVENT
DTSTART;TZID=Europe/London:20240926T193000
DTEND;TZID=Europe/London:20240926T213000
DTSTAMP:20260423T000032
CREATED:20240201T143647Z
LAST-MODIFIED:20240201T143647Z
UID:10000766-1727379000-1727386200@paulaobrien.net
SUMMARY:Motherwell 26th of September 2024 - Special Event
DESCRIPTION:From Heaven With Love Tour 2024 \nMotherwell 26th of September 2024 \nDalziel Park Hotel\, Motherwell \n  \nJoin Paula as we celebrate our 11th year of touring for what is going to be one of the most magical and emotional tours we have done. The past 10 years have brought so many beautiful\, emotional and heartfelt conversations with your loved ones I’m going into the next 10 years looking forward to doing a thousand times more! \nWhat the expect on the night – Come along and see Paula’s incredible communication with spirit\, one of a kind sense of humour and jaw dropping gift as she shares her journey and delivers stunningly accurate messages from your loved ones. While not everyone will get a reading messages from your loved ones may come through in what Paula refers to as a “piggy back message” \n\n6.30pm – Doors Open\n7.30-8.30pm – First Half\n8.30-8.45pm – Break\n8.45 – 9.30pm – Second Half\n‍\nOpen seating plan for all guests (VIP will be seated in the first few rows)Special Tickets – £15.00\nSpecial Tickets: These tickets are just standard tickets but to celebrate our 10 year anniversary tour we have released a limited amount of these tickets. (This was our original ticket price back in 2013)\n\nLittle details:\nAttendance does not guarantee a reading during the event.\nTickets are non-refundable.\nMust be 16 years or older to attend.\n\nInfants are not permitted.Terms and Conditions apply\, please see the T’s & C’s page for details.Understanding that we are still in the aftermath of a Global Pandemic and taking into account that there may still be local lock downs or tightening of the Covid Restrictions\, please be advised that if an event must be rescheduled\, your ticket will automatically be re-booked to the new date. Refunds for any events will not be issued\, under any circumstances. 
URL:https://paulaobrien.net/event/motherwell-26th-of-september-2024-special-event/
LOCATION:The Dalziel Park Hotel Motherwell\, 100 Hagen Drive\, Motherwell\, Motherwell\, ML1 5RZ\, United Kingdom
CATEGORIES:From Heaven with Love Tour,Live Events,Psychic Medium Tickets - Paula Obrien Psychic Medium UK,Scottish Tour Dates
ATTACH;FMTTYPE=image/png:https://paulaobrien.net/wp-content/uploads/2024/01/Copy-of-Copy-of-2024-Cover-website-4.png
ORGANIZER;CN="Paula Obrien Ltd":MAILTO:support@paulaobrien.net
GEO:55.7984867;-3.9427556
X-APPLE-STRUCTURED-LOCATION;VALUE=URI;X-ADDRESS=The Dalziel Park Hotel Motherwell 100 Hagen Drive Motherwell Motherwell ML1 5RZ United Kingdom;X-APPLE-RADIUS=500;X-TITLE=100 Hagen Drive:geo:-3.9427556,55.7984867
END:VEVENT
END:VCALENDAR