BEGIN:VCALENDAR
VERSION:2.0
PRODID:-//Paula Obrien - UK Psychic Medium - ECPv6.15.20//NONSGML v1.0//EN
CALSCALE:GREGORIAN
METHOD:PUBLISH
X-WR-CALNAME:Paula Obrien - UK Psychic Medium
X-ORIGINAL-URL:https://paulaobrien.net
X-WR-CALDESC:Events for Paula Obrien - UK Psychic Medium
REFRESH-INTERVAL;VALUE=DURATION:PT1H
X-Robots-Tag:noindex
X-PUBLISHED-TTL:PT1H
BEGIN:VTIMEZONE
TZID:Europe/London
BEGIN:DAYLIGHT
TZOFFSETFROM:+0000
TZOFFSETTO:+0100
TZNAME:BST
DTSTART:20230326T010000
END:DAYLIGHT
BEGIN:STANDARD
TZOFFSETFROM:+0100
TZOFFSETTO:+0000
TZNAME:GMT
DTSTART:20231029T010000
END:STANDARD
BEGIN:DAYLIGHT
TZOFFSETFROM:+0000
TZOFFSETTO:+0100
TZNAME:BST
DTSTART:20240331T010000
END:DAYLIGHT
BEGIN:STANDARD
TZOFFSETFROM:+0100
TZOFFSETTO:+0000
TZNAME:GMT
DTSTART:20241027T010000
END:STANDARD
BEGIN:DAYLIGHT
TZOFFSETFROM:+0000
TZOFFSETTO:+0100
TZNAME:BST
DTSTART:20250330T010000
END:DAYLIGHT
BEGIN:STANDARD
TZOFFSETFROM:+0100
TZOFFSETTO:+0000
TZNAME:GMT
DTSTART:20251026T010000
END:STANDARD
END:VTIMEZONE
BEGIN:VEVENT
DTSTART;TZID=Europe/London:20241022T193000
DTEND;TZID=Europe/London:20241022T213000
DTSTAMP:20260423T000030
CREATED:20231120T182231Z
LAST-MODIFIED:20240122T120627Z
UID:10000741-1729625400-1729632600@paulaobrien.net
SUMMARY:York 22nd of October 2024
DESCRIPTION:From Heaven With Love Tour 2024 \nYork 22nd of October 2024 \nMercure York Fairfield Manor Hotel\, York \n  \nJoin Paula as we celebrate our 11th year of touring for what is going to be one of the most magical and emotional tours we have done. The past 10 years have brought so many beautiful\, emotional and heartfelt conversations with your loved ones I’m going into the next 10 years looking forward to doing a thousand times more! \nWhat the expect on the night – Come along and see Paula’s incredible communication with spirit\, one of a kind sense of humour and jaw dropping gift as she shares her journey and delivers stunningly accurate messages from your loved ones. While not everyone will get a reading messages from your loved ones may come through in what Paula refers to as a “piggy back message” \n\n6.30pm – Doors Open\n7.30-8.30pm – First Half\n8.30-8.45pm – Break\n8.45 – 9.30pm – Second Half\n9.30pm – VIP Experience\n‍\nOpen seating plan for all guests (VIP will be seated in the first few rows)\nSpecial Tickets – £12.50\nSpecial Tickets: These tickets are just standard tickets but to celebrate our 10 year anniversary tour we have released a limited amount of these tickets. (This was our original ticket price back in 2013)\nStandard Tickets – £25\nStandard Tickets : Paula will deliver as many messages as possible during the first and second half. Although attendance does not guarantee a direct message\, we hope you thoroughly enjoy the night as a whole.‍\nVIP Tickets – £40\nVIP Tickets :\n– Best seats in the house\, usually on the first 2/3 rows.\n– EXTRA 20 MINUTE VIP Exclusive Event.\nLittle details:\nAttendance does not guarantee a reading during the event.\nTickets are non-refundable.\nMust be 16 years or older to attend.\n\nInfants are not permitted.Terms and Conditions apply\, please see the T’s & C’s page for details.Understanding that we are still in the aftermath of a Global Pandemic and taking into account that there may still be local lock downs or tightening of the Covid Restrictions\, please be advised that if an event must be rescheduled\, your ticket will automatically be re-booked to the new date. Refunds for any events will not be issued\, under any circumstances. 
URL:https://paulaobrien.net/event/york-22nd-of-october-2024/
LOCATION:Mercure Fairfield Manor Hotel\, Shipton Rd\, York\, YO30 1XW
CATEGORIES:From Heaven with Love Tour,Live Events,Psychic Medium Tickets - Paula Obrien Psychic Medium UK
ATTACH;FMTTYPE=image/png:https://paulaobrien.net/wp-content/uploads/2024/01/Copy-of-Copy-of-2024-Cover-website-4.png
ORGANIZER;CN="Paula Obrien Ltd":MAILTO:support@paulaobrien.net
GEO:53.9939066;-1.1308173
X-APPLE-STRUCTURED-LOCATION;VALUE=URI;X-ADDRESS=Mercure Fairfield Manor Hotel Shipton Rd York YO30 1XW;X-APPLE-RADIUS=500;X-TITLE=Shipton Rd:geo:-1.1308173,53.9939066
END:VEVENT
BEGIN:VEVENT
DTSTART;TZID=Europe/London:20241023T193000
DTEND;TZID=Europe/London:20241023T213000
DTSTAMP:20260423T000030
CREATED:20240201T140637Z
LAST-MODIFIED:20240206T193554Z
UID:10000774-1729711800-1729719000@paulaobrien.net
SUMMARY:Liverpool 23rd of October 2024
DESCRIPTION:From Heaven With Love Tour 2024 \nLiverpool 23rd of October 2024 \nThe Village Hotel\, Liverpool \n  \nJoin Paula as we celebrate our 11th year of touring for what is going to be one of the most magical and emotional tours we have done. The past 10 years have brought so many beautiful\, emotional and heartfelt conversations with your loved ones I’m going into the next 10 years looking forward to doing a thousand times more! \nWhat the expect on the night – Come along and see Paula’s incredible communication with spirit\, one of a kind sense of humour and jaw dropping gift as she shares her journey and delivers stunningly accurate messages from your loved ones. While not everyone will get a reading messages from your loved ones may come through in what Paula refers to as a “piggy back message” \n\n6.30pm – Doors Open\n7.30-8.30pm – First Half\n8.30-8.50pm – Break\n8.50 – 9.30pm – Second Half\n‍\nOpen seating plan for all guests.\nSpecial Tickets – £15.00\nSpecial Tickets: These tickets are just standard tickets but to celebrate our 10 year anniversary tour we have released a limited amount of these tickets. (This was our original ticket price back in 2013)\nStandard Tickets – £25\nStandard Tickets : Paula will deliver as many messages as possible during the first and second half. Although attendance does not guarantee a direct message\, we hope you thoroughly enjoy the night as a whole.‍\n\nLittle details:\nAttendance does not guarantee a reading during the event.\nTickets are non-refundable.\nMust be 16 years or older to attend.\n\nInfants are not permitted.Terms and Conditions apply\, please see the T’s & C’s page for details.Understanding that we are still in the aftermath of a Global Pandemic and taking into account that there may still be local lock downs or tightening of the Covid Restrictions\, please be advised that if an event must be rescheduled\, your ticket will automatically be re-booked to the new date. Refunds for any events will not be issued\, under any circumstances. 
URL:https://paulaobrien.net/event/liverpool-23rd-of-october-2024/
LOCATION:The Village Hotel Liverpool\, Fallows Way\, Liverpool\, L35 1RZ
CATEGORIES:English Tour Dates,From Heaven with Love Tour,Live Events,Psychic Medium Tickets - Paula Obrien Psychic Medium UK
ATTACH;FMTTYPE=image/png:https://paulaobrien.net/wp-content/uploads/2024/01/Copy-of-Copy-of-2024-Cover-website-4.png
ORGANIZER;CN="Paula Obrien Ltd":MAILTO:support@paulaobrien.net
GEO:53.4041729;-2.8100772
X-APPLE-STRUCTURED-LOCATION;VALUE=URI;X-ADDRESS=The Village Hotel Liverpool Fallows Way Liverpool L35 1RZ;X-APPLE-RADIUS=500;X-TITLE=Fallows Way:geo:-2.8100772,53.4041729
END:VEVENT
BEGIN:VEVENT
DTSTART;TZID=Europe/London:20241024T193000
DTEND;TZID=Europe/London:20241024T213000
DTSTAMP:20260423T000030
CREATED:20240201T135351Z
LAST-MODIFIED:20240212T153228Z
UID:10000773-1729798200-1729805400@paulaobrien.net
SUMMARY:Stoke on Trent 24th of October 2024
DESCRIPTION:From Heaven with Love Tour 2024 \nStoke on Trent 24th of October 2024 \nThe Doubletree by Hilton\, Stoke on Trent \n‍\nJoin Paula as we celebrate our 11th year of touring for what is going to be one of the most magical and emotional tours we have done. The past 10 years have brought so many beautiful\, emotional and heartfelt conversations with your loved ones I’m going into the next 10 years looking forward to doing a thousand times more! \nWhat the expect on the night – Come along and see Paula’s incredible communication with spirit\, one of a kind sense of humour and jaw dropping gift as she shares her journey and delivers stunningly accurate messages from your loved ones. While not everyone will get a reading messages from your loved ones may come through in what Paula refers to as a “piggy back message” \n\n6.30pm – Doors Open\n7.30-8.30pm – First Half\n8.30-8.50pm – Break\n8.50 – 9.30pm – Second Half \n‍\nOpen seating plan for all guests (VIP will be seated in the first few rows)\nSpecial Tickets – £15.00\nSpecial Tickets: These tickets are just standard tickets but to celebrate our 10 year anniversary tour we have released a limited amount of these tickets. (This was our original ticket price back in 2013)\nStandard Tickets – £25\nStandard Tickets : Paula will deliver as many messages as possible during the first and second half. Although attendance does not guarantee a direct message\, we hope you thoroughly enjoy the night as a whole.‍\n\nLittle details:\nAttendance does not guarantee a reading during the event.\nTickets are non-refundable.\nMust be 16 years or older to attend.\nInfants are not permitted.Terms and Conditions apply\, please see the T’s & C’s page for details.Understanding that we are still in the aftermath of a Global Pandemic and taking into account that there may still be local lock downs or tightening of the Covid Restrictions\, please be advised that if an event must be rescheduled\, your ticket will automatically be re-booked to the new date. Refunds for any events will not be issued\, under any circumstances. 
URL:https://paulaobrien.net/event/stoke-on-trent-24th-of-october-2024/
LOCATION:Doubletree by Hilton Stoke on Trent\, Etruria Hall Festival Way\, Stoke on Trent\, ST1 5BQ\, United Kingdom
CATEGORIES:English Tour Dates,From Heaven with Love Tour,Live Events,Psychic Medium Tickets - Paula Obrien Psychic Medium UK
ATTACH;FMTTYPE=image/png:https://paulaobrien.net/wp-content/uploads/2024/01/Copy-of-Copy-of-2024-Cover-website-4.png
ORGANIZER;CN="Paula Obrien Ltd":MAILTO:support@paulaobrien.net
GEO:53.0263342;-2.1959144
X-APPLE-STRUCTURED-LOCATION;VALUE=URI;X-ADDRESS=Doubletree by Hilton Stoke on Trent Etruria Hall Festival Way Stoke on Trent ST1 5BQ United Kingdom;X-APPLE-RADIUS=500;X-TITLE=Etruria Hall Festival Way:geo:-2.1959144,53.0263342
END:VEVENT
BEGIN:VEVENT
DTSTART;TZID=Europe/London:20241025T193000
DTEND;TZID=Europe/London:20241025T213000
DTSTAMP:20260423T000030
CREATED:20240212T153502Z
LAST-MODIFIED:20240212T154405Z
UID:10000777-1729884600-1729891800@paulaobrien.net
SUMMARY:Carlisle 25th of October 2024
DESCRIPTION:From Heaven with Love Tour 2024 \nCarlisle 25th of October 2024 \nThe Halston Hotel\, Carlisle \n‍ \nJoin Paula as we celebrate our 11th year of touring for what is going to be one of the most magical and emotional tours we have done. The past 10 years have brought so many beautiful\, emotional and heartfelt conversations with your loved ones I’m going into the next 10 years looking forward to doing a thousand times more! \nWhat the expect on the night – Come along and see Paula’s incredible communication with spirit\, one of a kind sense of humour and jaw dropping gift as she shares her journey and delivers stunningly accurate messages from your loved ones. While not everyone will get a reading messages from your loved ones may come through in what Paula refers to as a “piggy back message” \n\n6.30pm – Doors Open\n7.30-8.30pm – First Half\n8.30-8.50pm – Break\n8.50 – 9.30pm – Second Half\n‍\nOpen seating plan for all guests.\nSpecial Tickets – £15.00\nSpecial Tickets: These tickets are just standard tickets but to celebrate our 10 year anniversary tour we have released a limited amount of these tickets. (This was our original ticket price back in 2013)\nStandard Tickets – £25\nStandard Tickets : Paula will deliver as many messages as possible during the first and second half. Although attendance does not guarantee a direct message\, we hope you thoroughly enjoy the night as a whole.‍\nLittle details:\nAttendance does not guarantee a reading during the event.\nTickets are non-refundable.\nMust be 16 years or older to attend.\nInfants are not permitted. \n  \nTerms and Conditions apply\, please see the T’s & C’s page for details.Understanding that we are still in the aftermath of a Global Pandemic and taking into account that there may still be local lock downs or tightening of the Covid Restrictions\, please be advised that if an event must be rescheduled\, your ticket will automatically be re-booked to the new date. Refunds for any events will not be issued\, under any circumstances. 
URL:https://paulaobrien.net/event/carlisle-25th-of-october-2024/
LOCATION:The Halston\, Carlisle\, 20-34 Warwick Road\, Carlisle\, CA1 1AB\, United Kingdom
CATEGORIES:English Tour Dates,From Heaven with Love Tour,Live Events,Psychic Medium Tickets - Paula Obrien Psychic Medium UK,Scottish Tour Dates
ATTACH;FMTTYPE=image/png:https://paulaobrien.net/wp-content/uploads/2024/01/Copy-of-Copy-of-2024-Cover-website-4.png
ORGANIZER;CN="Paula Obrien Ltd":MAILTO:support@paulaobrien.net
GEO:54.8926087;-2.9318095
X-APPLE-STRUCTURED-LOCATION;VALUE=URI;X-ADDRESS=The Halston Carlisle 20-34 Warwick Road Carlisle CA1 1AB United Kingdom;X-APPLE-RADIUS=500;X-TITLE=20-34 Warwick Road:geo:-2.9318095,54.8926087
END:VEVENT
END:VCALENDAR